BEGIN:VCALENDAR
VERSION:2.0
PRODID:-//Algerian American Foundation - ECPv6.15.20//NONSGML v1.0//EN
CALSCALE:GREGORIAN
METHOD:PUBLISH
X-ORIGINAL-URL:https://algerianamericanfoundation.org
X-WR-CALDESC:Events for Algerian American Foundation
REFRESH-INTERVAL;VALUE=DURATION:PT1H
X-Robots-Tag:noindex
X-PUBLISHED-TTL:PT1H
BEGIN:VTIMEZONE
TZID:Asia/Shanghai
BEGIN:STANDARD
TZOFFSETFROM:+0800
TZOFFSETTO:+0800
TZNAME:CST
DTSTART:20210101T000000
END:STANDARD
END:VTIMEZONE
BEGIN:VTIMEZONE
TZID:Asia/Krasnoyarsk
BEGIN:STANDARD
TZOFFSETFROM:+0700
TZOFFSETTO:+0700
TZNAME:+07
DTSTART:20210101T000000
END:STANDARD
END:VTIMEZONE
BEGIN:VEVENT
DTSTART;TZID=Asia/Shanghai:20220109T100000
DTEND;TZID=Asia/Shanghai:20220109T110000
DTSTAMP:20260420T020634
CREATED:20220126T121308Z
LAST-MODIFIED:20220126T121308Z
UID:5181-1641722400-1641726000@algerianamericanfoundation.org
SUMMARY:AAF-CEST BOD Meeting
DESCRIPTION:Every 2nd sunday of month\, the BOD members meet to manage current affairs like preparing the organization of new events\, working on new initiatives or deciding on new membership applications.
URL:https://algerianamericanfoundation.org/event/aaf-cest-bod-meeting-2/
END:VEVENT
BEGIN:VEVENT
DTSTART;TZID=Asia/Krasnoyarsk:20220114T080000
DTEND;TZID=Asia/Krasnoyarsk:20220121T170000
DTSTAMP:20260420T020634
CREATED:20220112T040419Z
LAST-MODIFIED:20220112T040419Z
UID:5137-1642147200-1642784400@algerianamericanfoundation.org
SUMMARY:test event
DESCRIPTION:test …
URL:https://algerianamericanfoundation.org/event/test-event/
CATEGORIES:AAF Lecture Series,Upcoming
END:VEVENT
END:VCALENDAR